BEGIN:VCALENDAR
PRODID:-//Microsoft Corporation//Outlook 12.0 MIMEDIR//EN
VERSION:2.0
METHOD:PUBLISH
X-WR-CALNAME:The Farm League
BEGIN:VEVENT
CATEGORIES:The Farm League
CLASS:PUBLIC
CREATED:20260420T112422Z
DESCRIPTION:The Farm League Calendar
LOCATION:CFBC Field, klein, klein
DTEND:20260425T000000Z
DTSTART:20260424T224500Z
PRIORITY:5
SEQUENCE:0
SUMMARY:The Farm League: LADYBUGS 6U spr26 - DIAMONDS 6U spr26
TRANSP:TRANSPARENT
UID:game138837@thefarmleague.com
X-MICROSOFT-CDO-BUSYSTATUS:FREE
X-MICROSOFT-CDO-IMPORTANCE:1
X-MICROSOFT-DISALLOW-COUNTER:FALSE
X-MS-OLK-ALLOWEXTERNCHECK:TRUE
X-MS-OLK-AUTOSTARTCHECK:FALSE
X-MS-OLK-CONFTYPE:0
END:VEVENT
BEGIN:VEVENT
CATEGORIES:The Farm League
CLASS:PUBLIC
CREATED:20260420T112422Z
DESCRIPTION:The Farm League Calendar
LOCATION:Collins Park 1, klein, klein
DTEND:20260425T003000Z
DTSTART:20260424T230000Z
PRIORITY:5
SEQUENCE:0
SUMMARY:The Farm League: ANGELS 8U spr26 - KOALAS 8U spr26
TRANSP:TRANSPARENT
UID:game138897@thefarmleague.com
X-MICROSOFT-CDO-BUSYSTATUS:FREE
X-MICROSOFT-CDO-IMPORTANCE:1
X-MICROSOFT-DISALLOW-COUNTER:FALSE
X-MS-OLK-ALLOWEXTERNCHECK:TRUE
X-MS-OLK-AUTOSTARTCHECK:FALSE
X-MS-OLK-CONFTYPE:0
END:VEVENT
BEGIN:VEVENT
CATEGORIES:The Farm League
CLASS:PUBLIC
CREATED:20260420T112422Z
DESCRIPTION:The Farm League Calendar
LOCATION:Collins Park 2, klein, klein
DTEND:20260425T003000Z
DTSTART:20260424T230000Z
PRIORITY:5
SEQUENCE:0
SUMMARY:The Farm League: THUNDERCATS 10U spr26 - BEARS 10U spr26
TRANSP:TRANSPARENT
UID:game138939@thefarmleague.com
X-MICROSOFT-CDO-BUSYSTATUS:FREE
X-MICROSOFT-CDO-IMPORTANCE:1
X-MICROSOFT-DISALLOW-COUNTER:FALSE
X-MS-OLK-ALLOWEXTERNCHECK:TRUE
X-MS-OLK-AUTOSTARTCHECK:FALSE
X-MS-OLK-CONFTYPE:0
END:VEVENT
BEGIN:VEVENT
CATEGORIES:The Farm League
CLASS:PUBLIC
CREATED:20260420T112422Z
DESCRIPTION:The Farm League Calendar
LOCATION:CFBC Field, klein, klein
DTEND:20260425T011500Z
DTSTART:20260425T000000Z
PRIORITY:5
SEQUENCE:0
SUMMARY:The Farm League: UNICORNS 6U spr26 - BUTTERFLIES 6U spr26
TRANSP:TRANSPARENT
UID:game138838@thefarmleague.com
X-MICROSOFT-CDO-BUSYSTATUS:FREE
X-MICROSOFT-CDO-IMPORTANCE:1
X-MICROSOFT-DISALLOW-COUNTER:FALSE
X-MS-OLK-ALLOWEXTERNCHECK:TRUE
X-MS-OLK-AUTOSTARTCHECK:FALSE
X-MS-OLK-CONFTYPE:0
END:VEVENT
BEGIN:VEVENT
CATEGORIES:The Farm League
CLASS:PUBLIC
CREATED:20260420T112422Z
DESCRIPTION:The Farm League Calendar
LOCATION:Collins Park 2, klein, klein
DTEND:20260425T020000Z
DTSTART:20260425T003000Z
PRIORITY:5
SEQUENCE:0
SUMMARY:The Farm League: BLUEBONNETS 10U spr26 - THUNDERCATS 10U spr26
TRANSP:TRANSPARENT
UID:game138932@thefarmleague.com
X-MICROSOFT-CDO-BUSYSTATUS:FREE
X-MICROSOFT-CDO-IMPORTANCE:1
X-MICROSOFT-DISALLOW-COUNTER:FALSE
X-MS-OLK-ALLOWEXTERNCHECK:TRUE
X-MS-OLK-AUTOSTARTCHECK:FALSE
X-MS-OLK-CONFTYPE:0
END:VEVENT
BEGIN:VEVENT
CATEGORIES:The Farm League
CLASS:PUBLIC
CREATED:20260420T112422Z
DESCRIPTION:The Farm League Calendar
LOCATION:Collins Park 1, klein, klein
DTEND:20260425T020000Z
DTSTART:20260425T003000Z
PRIORITY:5
SEQUENCE:0
SUMMARY:The Farm League: STORM 8U spr26 - SEA MONKEYS 8U spr26
TRANSP:TRANSPARENT
UID:game138898@thefarmleague.com
X-MICROSOFT-CDO-BUSYSTATUS:FREE
X-MICROSOFT-CDO-IMPORTANCE:1
X-MICROSOFT-DISALLOW-COUNTER:FALSE
X-MS-OLK-ALLOWEXTERNCHECK:TRUE
X-MS-OLK-AUTOSTARTCHECK:FALSE
X-MS-OLK-CONFTYPE:0
END:VEVENT
BEGIN:VEVENT
CATEGORIES:The Farm League
CLASS:PUBLIC
CREATED:20260420T112422Z
DESCRIPTION:The Farm League Calendar
LOCATION:Collins Park 2, klein, klein
DTEND:20260425T151500Z
DTSTART:20260425T140000Z
PRIORITY:5
SEQUENCE:0
SUMMARY:The Farm League: UNICORNS 6U spr26 - SEA MONKEYS 6U spr26
TRANSP:TRANSPARENT
UID:game138840@thefarmleague.com
X-MICROSOFT-CDO-BUSYSTATUS:FREE
X-MICROSOFT-CDO-IMPORTANCE:1
X-MICROSOFT-DISALLOW-COUNTER:FALSE
X-MS-OLK-ALLOWEXTERNCHECK:TRUE
X-MS-OLK-AUTOSTARTCHECK:FALSE
X-MS-OLK-CONFTYPE:0
END:VEVENT
BEGIN:VEVENT
CATEGORIES:The Farm League
CLASS:PUBLIC
CREATED:20260420T112422Z
DESCRIPTION:The Farm League Calendar
LOCATION:Collins Park 1, klein, klein
DTEND:20260425T151500Z
DTSTART:20260425T140000Z
PRIORITY:5
SEQUENCE:0
SUMMARY:The Farm League: QUOKKAS 6U spr26 - HONEYBEES 6U spr26
TRANSP:TRANSPARENT
UID:game138839@thefarmleague.com
X-MICROSOFT-CDO-BUSYSTATUS:FREE
X-MICROSOFT-CDO-IMPORTANCE:1
X-MICROSOFT-DISALLOW-COUNTER:FALSE
X-MS-OLK-ALLOWEXTERNCHECK:TRUE
X-MS-OLK-AUTOSTARTCHECK:FALSE
X-MS-OLK-CONFTYPE:0
END:VEVENT
BEGIN:VEVENT
CATEGORIES:The Farm League
CLASS:PUBLIC
CREATED:20260420T112422Z
DESCRIPTION:The Farm League Calendar
LOCATION:Collins Park 2, klein, klein
DTEND:20260425T164500Z
DTSTART:20260425T151500Z
PRIORITY:5
SEQUENCE:0
SUMMARY:The Farm League: TITANS  10U spr26 - STORM 10U spr26
TRANSP:TRANSPARENT
UID:game138956@thefarmleague.com
X-MICROSOFT-CDO-BUSYSTATUS:FREE
X-MICROSOFT-CDO-IMPORTANCE:1
X-MICROSOFT-DISALLOW-COUNTER:FALSE
X-MS-OLK-ALLOWEXTERNCHECK:TRUE
X-MS-OLK-AUTOSTARTCHECK:FALSE
X-MS-OLK-CONFTYPE:0
END:VEVENT
BEGIN:VEVENT
CATEGORIES:The Farm League
CLASS:PUBLIC
CREATED:20260420T112422Z
DESCRIPTION:The Farm League Calendar
LOCATION:Collins Park 1, klein, klein
DTEND:20260425T164500Z
DTSTART:20260425T151500Z
PRIORITY:5
SEQUENCE:0
SUMMARY:The Farm League: LLAMAS 8U spr26 - FIREFLIES 8U spr26
TRANSP:TRANSPARENT
UID:game138899@thefarmleague.com
X-MICROSOFT-CDO-BUSYSTATUS:FREE
X-MICROSOFT-CDO-IMPORTANCE:1
X-MICROSOFT-DISALLOW-COUNTER:FALSE
X-MS-OLK-ALLOWEXTERNCHECK:TRUE
X-MS-OLK-AUTOSTARTCHECK:FALSE
X-MS-OLK-CONFTYPE:0
END:VEVENT
BEGIN:VEVENT
CATEGORIES:The Farm League
CLASS:PUBLIC
CREATED:20260420T112422Z
DESCRIPTION:The Farm League Calendar
LOCATION:Collins Park 1, klein, klein
DTEND:20260425T181500Z
DTSTART:20260425T164500Z
PRIORITY:5
SEQUENCE:0
SUMMARY:The Farm League: BUTTERFLIES 8U spr26 - COUGARS 8U spr26
TRANSP:TRANSPARENT
UID:game138901@thefarmleague.com
X-MICROSOFT-CDO-BUSYSTATUS:FREE
X-MICROSOFT-CDO-IMPORTANCE:1
X-MICROSOFT-DISALLOW-COUNTER:FALSE
X-MS-OLK-ALLOWEXTERNCHECK:TRUE
X-MS-OLK-AUTOSTARTCHECK:FALSE
X-MS-OLK-CONFTYPE:0
END:VEVENT
BEGIN:VEVENT
CATEGORIES:The Farm League
CLASS:PUBLIC
CREATED:20260420T112422Z
DESCRIPTION:The Farm League Calendar
LOCATION:Collins Park 2, klein, klein
DTEND:20260425T181500Z
DTSTART:20260425T164500Z
PRIORITY:5
SEQUENCE:0
SUMMARY:The Farm League: TITANS 8U spr26 - PANDAS 8U spr26
TRANSP:TRANSPARENT
UID:game138900@thefarmleague.com
X-MICROSOFT-CDO-BUSYSTATUS:FREE
X-MICROSOFT-CDO-IMPORTANCE:1
X-MICROSOFT-DISALLOW-COUNTER:FALSE
X-MS-OLK-ALLOWEXTERNCHECK:TRUE
X-MS-OLK-AUTOSTARTCHECK:FALSE
X-MS-OLK-CONFTYPE:0
END:VEVENT
BEGIN:VEVENT
CATEGORIES:The Farm League
CLASS:PUBLIC
CREATED:20260420T112422Z
DESCRIPTION:The Farm League Calendar
LOCATION:Collins Park 1, klein, klein
DTEND:20260425T194500Z
DTSTART:20260425T181500Z
PRIORITY:5
SEQUENCE:0
SUMMARY:The Farm League: BLUEBONNETS 10U spr26 - LADYBUGS 10U spr26
TRANSP:TRANSPARENT
UID:game138954@thefarmleague.com
X-MICROSOFT-CDO-BUSYSTATUS:FREE
X-MICROSOFT-CDO-IMPORTANCE:1
X-MICROSOFT-DISALLOW-COUNTER:FALSE
X-MS-OLK-ALLOWEXTERNCHECK:TRUE
X-MS-OLK-AUTOSTARTCHECK:FALSE
X-MS-OLK-CONFTYPE:0
END:VEVENT
BEGIN:VEVENT
CATEGORIES:The Farm League
CLASS:PUBLIC
CREATED:20260420T112422Z
DESCRIPTION:The Farm League Calendar
LOCATION:Collins Park 2, klein, klein
DTEND:20260425T194500Z
DTSTART:20260425T181500Z
PRIORITY:5
SEQUENCE:0
SUMMARY:The Farm League: BEARS 10U spr26 - LLAMAS 10U spr26
TRANSP:TRANSPARENT
UID:game138955@thefarmleague.com
X-MICROSOFT-CDO-BUSYSTATUS:FREE
X-MICROSOFT-CDO-IMPORTANCE:1
X-MICROSOFT-DISALLOW-COUNTER:FALSE
X-MS-OLK-ALLOWEXTERNCHECK:TRUE
X-MS-OLK-AUTOSTARTCHECK:FALSE
X-MS-OLK-CONFTYPE:0
END:VEVENT
BEGIN:VEVENT
CATEGORIES:The Farm League
CLASS:PUBLIC
CREATED:20260420T112422Z
DESCRIPTION:The Farm League Calendar
LOCATION:Collins Park 1, klein, klein
DTEND:20260425T211500Z
DTSTART:20260425T194500Z
PRIORITY:5
SEQUENCE:0
SUMMARY:The Farm League: COUGARS 10U spr26 - EMERALDS 10U spr26
TRANSP:TRANSPARENT
UID:game138953@thefarmleague.com
X-MICROSOFT-CDO-BUSYSTATUS:FREE
X-MICROSOFT-CDO-IMPORTANCE:1
X-MICROSOFT-DISALLOW-COUNTER:FALSE
X-MS-OLK-ALLOWEXTERNCHECK:TRUE
X-MS-OLK-AUTOSTARTCHECK:FALSE
X-MS-OLK-CONFTYPE:0
END:VEVENT
BEGIN:VEVENT
CATEGORIES:The Farm League
CLASS:PUBLIC
CREATED:20260420T112422Z
DESCRIPTION:The Farm League Calendar
LOCATION:Collins Park 2, klein, klein
DTEND:20260425T211500Z
DTSTART:20260425T194500Z
PRIORITY:5
SEQUENCE:0
SUMMARY:The Farm League: TIGERS 10U spr26 - EAGLES 10U spr26
TRANSP:TRANSPARENT
UID:game138952@thefarmleague.com
X-MICROSOFT-CDO-BUSYSTATUS:FREE
X-MICROSOFT-CDO-IMPORTANCE:1
X-MICROSOFT-DISALLOW-COUNTER:FALSE
X-MS-OLK-ALLOWEXTERNCHECK:TRUE
X-MS-OLK-AUTOSTARTCHECK:FALSE
X-MS-OLK-CONFTYPE:0
END:VEVENT
BEGIN:VEVENT
CATEGORIES:The Farm League
CLASS:PUBLIC
CREATED:20260420T112422Z
DESCRIPTION:The Farm League Calendar
LOCATION:Collins Park 1, klein, klein
DTEND:20260427T003000Z
DTSTART:20260426T230000Z
PRIORITY:5
SEQUENCE:0
SUMMARY:The Farm League: LLAMAS 8U spr26 - SEA MONKEYS 8U spr26
TRANSP:TRANSPARENT
UID:game138902@thefarmleague.com
X-MICROSOFT-CDO-BUSYSTATUS:FREE
X-MICROSOFT-CDO-IMPORTANCE:1
X-MICROSOFT-DISALLOW-COUNTER:FALSE
X-MS-OLK-ALLOWEXTERNCHECK:TRUE
X-MS-OLK-AUTOSTARTCHECK:FALSE
X-MS-OLK-CONFTYPE:0
END:VEVENT
BEGIN:VEVENT
CATEGORIES:The Farm League
CLASS:PUBLIC
CREATED:20260420T112422Z
DESCRIPTION:The Farm League Calendar
LOCATION:Collins Park 4, klein, klein
DTEND:20260427T001500Z
DTSTART:20260426T230000Z
PRIORITY:5
SEQUENCE:0
SUMMARY:The Farm League: LADYBUGS 6U spr26 - HONEYBEES 6U spr26
TRANSP:TRANSPARENT
UID:game138817@thefarmleague.com
X-MICROSOFT-CDO-BUSYSTATUS:FREE
X-MICROSOFT-CDO-IMPORTANCE:1
X-MICROSOFT-DISALLOW-COUNTER:FALSE
X-MS-OLK-ALLOWEXTERNCHECK:TRUE
X-MS-OLK-AUTOSTARTCHECK:FALSE
X-MS-OLK-CONFTYPE:0
END:VEVENT
BEGIN:VEVENT
CATEGORIES:The Farm League
CLASS:PUBLIC
CREATED:20260420T112422Z
DESCRIPTION:The Farm League Calendar
LOCATION:Collins Park 2, klein, klein
DTEND:20260427T003000Z
DTSTART:20260426T230000Z
PRIORITY:5
SEQUENCE:0
SUMMARY:The Farm League: STORM 8U spr26 - PEACOCKS 8U spr26
TRANSP:TRANSPARENT
UID:game138877@thefarmleague.com
X-MICROSOFT-CDO-BUSYSTATUS:FREE
X-MICROSOFT-CDO-IMPORTANCE:1
X-MICROSOFT-DISALLOW-COUNTER:FALSE
X-MS-OLK-ALLOWEXTERNCHECK:TRUE
X-MS-OLK-AUTOSTARTCHECK:FALSE
X-MS-OLK-CONFTYPE:0
END:VEVENT
BEGIN:VEVENT
CATEGORIES:The Farm League
CLASS:PUBLIC
CREATED:20260420T112422Z
DESCRIPTION:The Farm League Calendar
LOCATION:Collins Park 4, klein, klein
DTEND:20260427T013000Z
DTSTART:20260427T001500Z
PRIORITY:5
SEQUENCE:0
SUMMARY:The Farm League: BUTTERFLIES 6U spr26 - LLAMAS 6U spr26
TRANSP:TRANSPARENT
UID:game138804@thefarmleague.com
X-MICROSOFT-CDO-BUSYSTATUS:FREE
X-MICROSOFT-CDO-IMPORTANCE:1
X-MICROSOFT-DISALLOW-COUNTER:FALSE
X-MS-OLK-ALLOWEXTERNCHECK:TRUE
X-MS-OLK-AUTOSTARTCHECK:FALSE
X-MS-OLK-CONFTYPE:0
END:VEVENT
BEGIN:VEVENT
CATEGORIES:The Farm League
CLASS:PUBLIC
CREATED:20260420T112422Z
DESCRIPTION:The Farm League Calendar
LOCATION:Collins Park 1, klein, klein
DTEND:20260427T015000Z
DTSTART:20260427T002000Z
PRIORITY:5
SEQUENCE:0
SUMMARY:The Farm League: KOALAS 8U spr26 - BUTTERFLIES 8U spr26
TRANSP:TRANSPARENT
UID:game138848@thefarmleague.com
X-MICROSOFT-CDO-BUSYSTATUS:FREE
X-MICROSOFT-CDO-IMPORTANCE:1
X-MICROSOFT-DISALLOW-COUNTER:FALSE
X-MS-OLK-ALLOWEXTERNCHECK:TRUE
X-MS-OLK-AUTOSTARTCHECK:FALSE
X-MS-OLK-CONFTYPE:0
END:VEVENT
BEGIN:VEVENT
CATEGORIES:The Farm League
CLASS:PUBLIC
CREATED:20260420T112422Z
DESCRIPTION:The Farm League Calendar
LOCATION:Collins Park 2, klein, klein
DTEND:20260427T020000Z
DTSTART:20260427T003000Z
PRIORITY:5
SEQUENCE:0
SUMMARY:The Farm League: EMERALDS 10U spr26 - TIGERS 10U spr26
TRANSP:TRANSPARENT
UID:game138957@thefarmleague.com
X-MICROSOFT-CDO-BUSYSTATUS:FREE
X-MICROSOFT-CDO-IMPORTANCE:1
X-MICROSOFT-DISALLOW-COUNTER:FALSE
X-MS-OLK-ALLOWEXTERNCHECK:TRUE
X-MS-OLK-AUTOSTARTCHECK:FALSE
X-MS-OLK-CONFTYPE:0
END:VEVENT
BEGIN:VEVENT
CATEGORIES:The Farm League
CLASS:PUBLIC
CREATED:20260420T112422Z
DESCRIPTION:The Farm League Calendar
LOCATION:CFBC Field, klein, klein
DTEND:20260502T000000Z
DTSTART:20260501T224500Z
PRIORITY:5
SEQUENCE:0
SUMMARY:The Farm League: QUOKKAS 6U spr26 - LADYBUGS 6U spr26
TRANSP:TRANSPARENT
UID:game138841@thefarmleague.com
X-MICROSOFT-CDO-BUSYSTATUS:FREE
X-MICROSOFT-CDO-IMPORTANCE:1
X-MICROSOFT-DISALLOW-COUNTER:FALSE
X-MS-OLK-ALLOWEXTERNCHECK:TRUE
X-MS-OLK-AUTOSTARTCHECK:FALSE
X-MS-OLK-CONFTYPE:0
END:VEVENT
BEGIN:VEVENT
CATEGORIES:The Farm League
CLASS:PUBLIC
CREATED:20260420T112422Z
DESCRIPTION:The Farm League Calendar
LOCATION:CFBC Field, klein, klein
DTEND:20260502T011500Z
DTSTART:20260502T000000Z
PRIORITY:5
SEQUENCE:0
SUMMARY:The Farm League: DIAMONDS 6U spr26 - UNICORNS 6U spr26
TRANSP:TRANSPARENT
UID:game138842@thefarmleague.com
X-MICROSOFT-CDO-BUSYSTATUS:FREE
X-MICROSOFT-CDO-IMPORTANCE:1
X-MICROSOFT-DISALLOW-COUNTER:FALSE
X-MS-OLK-ALLOWEXTERNCHECK:TRUE
X-MS-OLK-AUTOSTARTCHECK:FALSE
X-MS-OLK-CONFTYPE:0
END:VEVENT
END:VCALENDAR
